BEGIN:VCALENDAR
VERSION:2.0
PRODID:-//Maison de la Recherche - ECPv6.15.20//NONSGML v1.0//EN
CALSCALE:GREGORIAN
METHOD:PUBLISH
X-WR-CALNAME:Maison de la Recherche
X-ORIGINAL-URL:https://maisondelarecherche.univ-amu.fr
X-WR-CALDESC:Évènements pour Maison de la Recherche
REFRESH-INTERVAL;VALUE=DURATION:PT1H
X-Robots-Tag:noindex
X-PUBLISHED-TTL:PT1H
BEGIN:VTIMEZONE
TZID:Europe/Paris
BEGIN:DAYLIGHT
TZOFFSETFROM:+0100
TZOFFSETTO:+0200
TZNAME:CEST
DTSTART:20250330T010000
END:DAYLIGHT
BEGIN:STANDARD
TZOFFSETFROM:+0200
TZOFFSETTO:+0100
TZNAME:CET
DTSTART:20251026T010000
END:STANDARD
BEGIN:DAYLIGHT
TZOFFSETFROM:+0100
TZOFFSETTO:+0200
TZNAME:CEST
DTSTART:20260329T010000
END:DAYLIGHT
BEGIN:STANDARD
TZOFFSETFROM:+0200
TZOFFSETTO:+0100
TZNAME:CET
DTSTART:20261025T010000
END:STANDARD
BEGIN:DAYLIGHT
TZOFFSETFROM:+0100
TZOFFSETTO:+0200
TZNAME:CEST
DTSTART:20270328T010000
END:DAYLIGHT
BEGIN:STANDARD
TZOFFSETFROM:+0200
TZOFFSETTO:+0100
TZNAME:CET
DTSTART:20271031T010000
END:STANDARD
END:VTIMEZONE
BEGIN:VEVENT
DTSTART;TZID=Europe/Paris:20260429T150000
DTEND;TZID=Europe/Paris:20260429T170000
DTSTAMP:20260424T124231
CREATED:20260424T095619Z
LAST-MODIFIED:20260424T095702Z
UID:23429712-1777474800-1777482000@maisondelarecherche.univ-amu.fr
SUMMARY:LERMA. Séminaire BRITAIX 17-18
DESCRIPTION:En présentiel : Faculté ALLSH_Campus Schuman_Maison de la recherche_salle 2.44En distanciel : https://univ-amu-fr.zoom.us/j/86263781774?pwd=uiE3E9JrXa4A6nOxZ9QM9axCNmgAb2.1 \n\n\n\n \n\n\n\nDans le cadre de son cycle de séminaires sur le thème de la visibilisation des scandales religieux de la période moderne\, le groupe de recherche Britaix 17-18 (LERMA\, UR 853\, amU) a le plaisir de vous convier à sa prochaine séance. En croisant les regards de spécialistes des archives françaises et britanniques\, nous interrogerons à la fois la façon dont ces manuscrits exposent ou dissimulent les scandales et la façon dont les historiens des différentes aires géographiques les abordent. Vous y êtes chaleureusement convié.es\, en salle 2.44 de la MDR. \n\n\n\nSéance 2: 29 avril 2026\, 15h – 17hVisibilisation et controverses religieuses\n\n\n\nCaroline Galland (U. Paris Nanterre) : « Mitigations » sous surveillance : un scandale mauriste entre invisibilité et sur-visibilisation » \n\n\n\nClaire Schiano-Locurcio (U. Montpellier 3) : « Écrire le scandale : culture du conflit et contestation de l’autorité ecclésiastique chez les Clarisses anglaises en exil »
URL:https://maisondelarecherche.univ-amu.fr/evenement/lerma-seminaire-britaix-17-18/
ATTACH;FMTTYPE=image/png:https://maisondelarecherche.univ-amu.fr/wp-content/uploads/2026/04/Controverses-religieuses.png
END:VEVENT
END:VCALENDAR