BEGIN:VCALENDAR
VERSION:2.0
PRODID:-//Maison de la Recherche - ECPv6.15.20//NONSGML v1.0//EN
CALSCALE:GREGORIAN
METHOD:PUBLISH
X-WR-CALNAME:Maison de la Recherche
X-ORIGINAL-URL:https://maisondelarecherche.univ-amu.fr
X-WR-CALDESC:Évènements pour Maison de la Recherche
REFRESH-INTERVAL;VALUE=DURATION:PT1H
X-Robots-Tag:noindex
X-PUBLISHED-TTL:PT1H
BEGIN:VTIMEZONE
TZID:Europe/Paris
BEGIN:DAYLIGHT
TZOFFSETFROM:+0100
TZOFFSETTO:+0200
TZNAME:CEST
DTSTART:20250330T010000
END:DAYLIGHT
BEGIN:STANDARD
TZOFFSETFROM:+0200
TZOFFSETTO:+0100
TZNAME:CET
DTSTART:20251026T010000
END:STANDARD
BEGIN:DAYLIGHT
TZOFFSETFROM:+0100
TZOFFSETTO:+0200
TZNAME:CEST
DTSTART:20260329T010000
END:DAYLIGHT
BEGIN:STANDARD
TZOFFSETFROM:+0200
TZOFFSETTO:+0100
TZNAME:CET
DTSTART:20261025T010000
END:STANDARD
BEGIN:DAYLIGHT
TZOFFSETFROM:+0100
TZOFFSETTO:+0200
TZNAME:CEST
DTSTART:20270328T010000
END:DAYLIGHT
BEGIN:STANDARD
TZOFFSETFROM:+0200
TZOFFSETTO:+0100
TZNAME:CET
DTSTART:20271031T010000
END:STANDARD
END:VTIMEZONE
BEGIN:VEVENT
DTSTART;TZID=Europe/Paris:20260312T170000
DTEND;TZID=Europe/Paris:20260312T190000
DTSTAMP:20260424T161958
CREATED:20260217T135911Z
LAST-MODIFIED:20260310T081359Z
UID:23429211-1773334800-1773342000@maisondelarecherche.univ-amu.fr
SUMMARY:ECHANGES. Andrei Nae (Bucarest): Procedural Diversity in Video Games
DESCRIPTION:Maison de la recherche\, salle 2.44 \n\n\n\n\n\n\n\n\n\nIn recent years\, diversity has been a central issue to video games\, as both game developers and researchers have been engaging with the question of how to make digital games\, a medium that continues to be associated with white\, heterosexual cis-masculinity\, more inclusive. Under the influence of cultural studies\, hegemonic representations of cultural identities have been the object of much academic scrutiny\, which has led to an improvement in terms of diversity and inclusion. The number of contemporary video games featuring women or people of colour as protagonists has steadily increased and we have reached a point at which video games now also feature non-demeaning representations of queer people. Despite this positive shift\, video games (especially AAA titles) remain a problematic medium from an ethical perspective. The problem lies in the fact that video games are a digital\, procedural medium whose rhetoric is shaped first and foremost by immaterial game mechanics. It follows that an ideological critique focused solely on the material representation excludes the analysis of the central means through which video games communicate with players: game mechanics. To address this problem\, in my talk I offer a theoretical perspective on ideology in game mechanics and show that gameplay in AAA video games amounts to various forms of domination. Furthermore\, I demonstrate that inclusive material representations paradoxically reinforce the ideological effects of domination-oriented game mechanics by presenting procedural exclusion as inclusion. \n\n\n\nDans le cadre du cycle de conférences du CDFA. Modération: Fanny Robles (LERMA)
URL:https://maisondelarecherche.univ-amu.fr/evenement/echanges-andrei-nae-bucarest-procedural-diversity-in-video-games/
END:VEVENT
END:VCALENDAR