BEGIN:VCALENDAR
VERSION:2.0
PRODID:-//Maison de la Recherche - ECPv6.15.20//NONSGML v1.0//EN
CALSCALE:GREGORIAN
METHOD:PUBLISH
X-WR-CALNAME:Maison de la Recherche
X-ORIGINAL-URL:https://maisondelarecherche.univ-amu.fr
X-WR-CALDESC:Évènements pour Maison de la Recherche
REFRESH-INTERVAL;VALUE=DURATION:PT1H
X-Robots-Tag:noindex
X-PUBLISHED-TTL:PT1H
BEGIN:VTIMEZONE
TZID:Europe/Paris
BEGIN:DAYLIGHT
TZOFFSETFROM:+0100
TZOFFSETTO:+0200
TZNAME:CEST
DTSTART:20240331T010000
END:DAYLIGHT
BEGIN:STANDARD
TZOFFSETFROM:+0200
TZOFFSETTO:+0100
TZNAME:CET
DTSTART:20241027T010000
END:STANDARD
BEGIN:DAYLIGHT
TZOFFSETFROM:+0100
TZOFFSETTO:+0200
TZNAME:CEST
DTSTART:20250330T010000
END:DAYLIGHT
BEGIN:STANDARD
TZOFFSETFROM:+0200
TZOFFSETTO:+0100
TZNAME:CET
DTSTART:20251026T010000
END:STANDARD
BEGIN:DAYLIGHT
TZOFFSETFROM:+0100
TZOFFSETTO:+0200
TZNAME:CEST
DTSTART:20260329T010000
END:DAYLIGHT
BEGIN:STANDARD
TZOFFSETFROM:+0200
TZOFFSETTO:+0100
TZNAME:CET
DTSTART:20261025T010000
END:STANDARD
END:VTIMEZONE
BEGIN:VEVENT
DTSTART;TZID=Europe/Paris:20251119T080000
DTEND;TZID=Europe/Paris:20251122T170000
DTSTAMP:20260425T004212
CREATED:20251118T151944Z
LAST-MODIFIED:20251118T151945Z
UID:23428573-1763539200-1763830800@maisondelarecherche.univ-amu.fr
SUMMARY:CAER. 3ème Festival d'écrivains hispaniques
DESCRIPTION:Les lettres hispaniques\, les lettres françaises\, confrontation\, relations\, traduction.\n\n\n\nLe programme :  \n\n\n\n\nMercredi 19/11 à 18h au Repère (théâtre 108) – 37\, bis Boulevard Aristide Briand à Aix en Provence :                                   Cérémonie d’ouverture\, inauguration du festival\, présentation des écrivains invités\, annonce du programme des activités\n\n\n\nJeudi 20/11 à la Faculté d’Aix en Provence – 29\, avenue Robert Schuman à Aix en Provence :\n\n10h : Traduire / se traduire : trahir\, co-écrire\, enrichir – Campus Schuman – Bâtiment multimédia – Salle de colloque 2\n\n\n\n14h : Pour qui écrire… où sont passés les lecteurs ?  – Campus Schuman – Bâtiment multimédia – Salle de colloque 2\n\n\n\n16h : Littérature et environnement : quelles urgences pour l’écriture ? – Campus Schuman – Bâtiment EGGER – Salle E209\n\n\n\n18h : Récital poético-musical – au Repère (théâtre 108) – 37\, bis Boulevard Aristide Briand à Aix en Provence\n\n\n\n\n\nVendredi 21/11 au Repère – 37\, bis Boulevard Aristide Briand à Aix en Provence\n\n10h : Roman français\, roman hispanique : relations\, influences réciproques – théâtre 108\n\n\n\n11h : Atelier d’écriture (s’inscrire avant le 10/11) – théâtre 108\n\n\n\n14h : La place de l’IA générative ; de l’outil acceptable à la compétition déloyale – Grand Studio\n\n\n\n16h : Le livre et les enfants\n\n\n\n18h30 : Récital de nouvelles et remise des prix aux lauréats des ateliers d’écriture – à la Mairie d’Aix en Provence\n\n\n\n\n\n\nJeudi et vendredi : un stand de livres à vendre sera monté dans le lieu des rencontres avec séances de dédicaces à 11h30\, 15h30 et 17h30. \n\n\n\nSamedi 22/11 : \n\n\n\n\n09h visite d’Aix en Provence : centrée sur Paul Cézanne\n\n\n\n12h : apéritif d’adieu à la Noria\n\n\n\n\nA ceux qui souhaitent participer à l’atelier : s’inscrire dès aujourd’hui et au plus tard le lundi 10 novembre à noria10@free.fr
URL:https://maisondelarecherche.univ-amu.fr/evenement/caer-3eme-festival-decrivains-hispaniques/
END:VEVENT
BEGIN:VEVENT
DTSTART;TZID=Europe/Paris:20251122T140000
DTEND;TZID=Europe/Paris:20251122T180000
DTSTAMP:20260425T004212
CREATED:20251119T155026Z
LAST-MODIFIED:20251121T135234Z
UID:23428589-1763820000-1763834400@maisondelarecherche.univ-amu.fr
SUMMARY:CIELAM. Soutenance* de la thèse de Marion SAUTEREAU
DESCRIPTION:(*) sous réserve d’autorisation de soutenance \n\n\n\nTitre : Quête identitaire\, masques et démasquements dans le théâtre d’Edmond Rostand \n\n\n\nJuryCorinne FLICKER\, Professeure des universités\, Aix Marseille Université\, Directrice de thèse                                Guy DUCRET\, Professeur des universités\, Université de Strasbourg\, RapporteurIsabelle MOINDROT\, Professeure des universités\, Université de Paris VIII\, ExaminatriceBertrand DEGOTT\, Maître de conférences\, Université de France-Comté\, ExaminateurSophie LUCET\, Maîtresse de conférences\, Université de Paris Cité\, Examinatrice Paola RANZINI\, Professeure des universités\, Avignon université\, Rapporteur \n\n\n\n \n\n\n\n \n\n\n\n \n\n\n\nLieu : salle de colloque 1\, bâtiment multimédia. Site Schuman
URL:https://maisondelarecherche.univ-amu.fr/evenement/cielam-soutenance-de-la-these-de-marion-sautereau/
CATEGORIES:Actualités,Thèses
END:VEVENT
END:VCALENDAR