BEGIN:VCALENDAR
VERSION:2.0
PRODID:-//Maison de la Recherche - ECPv6.15.20//NONSGML v1.0//EN
CALSCALE:GREGORIAN
METHOD:PUBLISH
X-ORIGINAL-URL:https://maisondelarecherche.univ-amu.fr
X-WR-CALDESC:Évènements pour Maison de la Recherche
REFRESH-INTERVAL;VALUE=DURATION:PT1H
X-Robots-Tag:noindex
X-PUBLISHED-TTL:PT1H
BEGIN:VTIMEZONE
TZID:Europe/Paris
BEGIN:DAYLIGHT
TZOFFSETFROM:+0100
TZOFFSETTO:+0200
TZNAME:CEST
DTSTART:20240331T010000
END:DAYLIGHT
BEGIN:STANDARD
TZOFFSETFROM:+0200
TZOFFSETTO:+0100
TZNAME:CET
DTSTART:20241027T010000
END:STANDARD
BEGIN:DAYLIGHT
TZOFFSETFROM:+0100
TZOFFSETTO:+0200
TZNAME:CEST
DTSTART:20250330T010000
END:DAYLIGHT
BEGIN:STANDARD
TZOFFSETFROM:+0200
TZOFFSETTO:+0100
TZNAME:CET
DTSTART:20251026T010000
END:STANDARD
BEGIN:DAYLIGHT
TZOFFSETFROM:+0100
TZOFFSETTO:+0200
TZNAME:CEST
DTSTART:20260329T010000
END:DAYLIGHT
BEGIN:STANDARD
TZOFFSETFROM:+0200
TZOFFSETTO:+0100
TZNAME:CET
DTSTART:20261025T010000
END:STANDARD
END:VTIMEZONE
BEGIN:VEVENT
DTSTART;TZID=Europe/Paris:20251114T140000
DTEND;TZID=Europe/Paris:20251114T170000
DTSTAMP:20260424T234435
CREATED:20251104T153418Z
LAST-MODIFIED:20251104T153419Z
UID:23428552-1763128800-1763139600@maisondelarecherche.univ-amu.fr
SUMMARY:LPCPP. Soutenance* de la thèse de Léa BINAUT
DESCRIPTION:(*) sous réserve d’autorisation de soutenance \n\n\n\nTitre : Le vécu parental et coparental des anciens enfants placés : Étude des caractéristiques et desressources mobilisées dans le rôle de parent et de conjoint \n\n\n\nJuryEvelyne BOUTEYRE\, Professeure des universités\, Aix Marseille Université\, Directrice de thèse                       Susana TERENO\, Professeure des universités\, Université de Rouen\, RapporteurKatia M’BAILARA\, Maîtresse de conférences\, Université de Bordeaux\, RapporteurJean-Michel COQ\, Maître de conférences\, Université de Rouen\, ExaminateurCaroline SIFFREN-BLANC\, Professeure des universités\, Aix Marseille Université\, Examinateur                       \n\n\n\n \n\n\n\n \n\n\n\nLieu : salle de colloque 1\, bâtiment multimédia. Site Schuman
URL:https://maisondelarecherche.univ-amu.fr/evenement/lpcpp-soutenance-de-la-these-de-lea-binaut/
CATEGORIES:Actualités,Thèses
END:VEVENT
BEGIN:VEVENT
DTSTART;TZID=Europe/Paris:20251114T140000
DTEND;TZID=Europe/Paris:20251114T170000
DTSTAMP:20260424T234435
CREATED:20251110T125202Z
LAST-MODIFIED:20251110T125203Z
UID:23428566-1763128800-1763139600@maisondelarecherche.univ-amu.fr
SUMMARY:LPS. Soutenance de thèse Thomas Berrhoun
DESCRIPTION:Campus Schuman – Bâtiment multimédia – Salle colloque 2 \n\n\n\nTitre : « Les enjeux de la consommation ostentatoire identitaire : Frein ou levier à l’adoption de laconsommation durable ? Une articulation théorique de l’influence normative\, du besoind’unicité et de la recherche de statut »\n\n\n\nJury :\n\n\n\nPr. Fabien GIRANDOLA\, Aix Marseille UniversitéMCF. Raquel BOHN- BERTOLDO\, Aix Marseille UniversitéPr.Maja BECKER\, Université Toulouse Jean JaurèsPr. Cécile SéNéMEAUD\, Université de Caen NormandieCr. Frédéric MARTINEZ\, Université Gustave Eiffel\n\n\n\nRésumé de la thèse en suivant ce lien : https://lps-aix.fr/wp-content/uploads/2025/10/Page-sout-Berrhoun.pdf
URL:https://maisondelarecherche.univ-amu.fr/evenement/lps-soutenance-de-these-thomas-berrhoun/
END:VEVENT
END:VCALENDAR