BEGIN:VCALENDAR
VERSION:2.0
PRODID:-//Maison de la Recherche - ECPv6.15.20//NONSGML v1.0//EN
CALSCALE:GREGORIAN
METHOD:PUBLISH
X-ORIGINAL-URL:https://maisondelarecherche.univ-amu.fr
X-WR-CALDESC:Évènements pour Maison de la Recherche
REFRESH-INTERVAL;VALUE=DURATION:PT1H
X-Robots-Tag:noindex
X-PUBLISHED-TTL:PT1H
BEGIN:VTIMEZONE
TZID:Europe/Paris
BEGIN:DAYLIGHT
TZOFFSETFROM:+0100
TZOFFSETTO:+0200
TZNAME:CEST
DTSTART:20240331T010000
END:DAYLIGHT
BEGIN:STANDARD
TZOFFSETFROM:+0200
TZOFFSETTO:+0100
TZNAME:CET
DTSTART:20241027T010000
END:STANDARD
BEGIN:DAYLIGHT
TZOFFSETFROM:+0100
TZOFFSETTO:+0200
TZNAME:CEST
DTSTART:20250330T010000
END:DAYLIGHT
BEGIN:STANDARD
TZOFFSETFROM:+0200
TZOFFSETTO:+0100
TZNAME:CET
DTSTART:20251026T010000
END:STANDARD
BEGIN:DAYLIGHT
TZOFFSETFROM:+0100
TZOFFSETTO:+0200
TZNAME:CEST
DTSTART:20260329T010000
END:DAYLIGHT
BEGIN:STANDARD
TZOFFSETFROM:+0200
TZOFFSETTO:+0100
TZNAME:CET
DTSTART:20261025T010000
END:STANDARD
END:VTIMEZONE
BEGIN:VEVENT
DTSTART;TZID=Europe/Paris:20251105T160000
DTEND;TZID=Europe/Paris:20251105T180000
DTSTAMP:20260424T230950
CREATED:20251103T223452Z
LAST-MODIFIED:20251103T223453Z
UID:23428537-1762358400-1762365600@maisondelarecherche.univ-amu.fr
SUMMARY:Séminaire doctoral
DESCRIPTION:« From the (In)visible to the (Un)said: Non-Normative Voices in Literature and the Arts Since the Early 20th Century »\n\n\n\n \n\n\n\n\n\n\n\n\n\nOrganisé par : LERMA (AMU) \n\n\n\nLieu : Salle 2.44 Maison de la Recherche – Aix-Marseille Université \n\n\n\nLa deuxième séance du séminaire doctoral From the (In)visible to the (Un)said: Non-Normative Voices in Literature and the Arts Since the Early 20th Century\, organisé par les doctorantes et doctorants de l’équipe Women & the F-Word du LERMA (Aix-Marseille Université)\, se tiendra le mercredi 5 novembre 2025\, de 16h à 18h (heure française)\, en salle 2.44 de la Maison de la Recherche sur le campus d’Aix-en-Provence. \n\n\n\nNous aurons le plaisir d’accueillir Jaine Chemmachery\, Maîtresse de conférences en littérature postcoloniale à Sorbonne Université. \n\n\n\nSon intervention portera sur :“Bodily Poetics\, Resistance and Mobility in Anglophone Diasporic Literature: Persistent Bodies and Voices in Home Fire (2017) by Kamila Shamsie.”
URL:https://maisondelarecherche.univ-amu.fr/evenement/seminaire-doctoral/
LOCATION:Salle 2.44\, 2e étage\, Bâtiment T2 – Maison de la Recherche\, 29 avenue Robert Schuman\, 13621 Aix-en-Provence cedex 1\, France
CATEGORIES:Actualités,Séminaires
ATTACH;FMTTYPE=image/jpeg:https://maisondelarecherche.univ-amu.fr/wp-content/uploads/2025/11/Seminar_5-NOV_Jaine-CHEMMACHERY-scaled.jpg
END:VEVENT
END:VCALENDAR